

BEGIN:VCALENDAR
VERSION:2.0
PRODID:-//UDC Suisse //NONSGML Events //EN
CALSCALE:GREGORIAN
X-WR-CALNAME:UDC Suisse
BEGIN:VEVENT
CREATED:20151110T073806Z
UID:8062
DTEND:20160614T000000
DTSTART:20160614T000000
DTSTAMP:20260420T205606Z
LOCATION:Berne
DESCRIPTION:
SUMMARY:ev. Séance du groupe
ORGANIZER:
URL;VALUE=URI:https://www.udc.ch/actualites/agenda/ev-seance-du-groupe-6/
TRANSP:OPAQUE
END:VEVENT
END:VCALENDAR
