

BEGIN:VCALENDAR
VERSION:2.0
PRODID:-//UDC Suisse //NONSGML Events //EN
CALSCALE:GREGORIAN
X-WR-CALNAME:UDC Suisse
BEGIN:VEVENT
CREATED:20151110T073855Z
UID:8063
DTEND:20160805T000000
DTSTART:20160805T000000
DTSTAMP:20260420T202333Z
LOCATION:Berne
DESCRIPTION:
SUMMARY:AG UDC International
ORGANIZER:
URL;VALUE=URI:https://www.udc.ch/actualites/agenda/ag-udc-international-2/
TRANSP:OPAQUE
END:VEVENT
END:VCALENDAR
