

BEGIN:VCALENDAR
VERSION:2.0
PRODID:-//UDC Suisse //NONSGML Events //EN
CALSCALE:GREGORIAN
X-WR-CALNAME:UDC Suisse
BEGIN:VEVENT
CREATED:20151110T073955Z
UID:8064
DTEND:20160807T000000
DTSTART:20160805T000000
DTSTAMP:20260421T060830Z
LOCATION:Berne
DESCRIPTION:
SUMMARY:Congrès des Suisses de l&rsquo\;étranger
ORGANIZER:
URL;VALUE=URI:https://www.udc.ch/actualites/agenda/congres-des-suisses-de-letranger-2/
TRANSP:OPAQUE
END:VEVENT
END:VCALENDAR
