

BEGIN:VCALENDAR
VERSION:2.0
PRODID:-//UDC Suisse //NONSGML Events //EN
CALSCALE:GREGORIAN
X-WR-CALNAME:UDC Suisse
BEGIN:VEVENT
CREATED:20151110T074943Z
UID:8066
DTEND:20160820T000000
DTSTART:20160820T000000
DTSTAMP:20260421T094247Z
LOCATION:
DESCRIPTION:
SUMMARY:Assemblée des délégués
ORGANIZER:
URL;VALUE=URI:https://www.udc.ch/actualites/agenda/assemblee-des-delegues-11/
TRANSP:OPAQUE
END:VEVENT
END:VCALENDAR
