

BEGIN:VCALENDAR
VERSION:2.0
PRODID:-//UDC Suisse //NONSGML Events //EN
CALSCALE:GREGORIAN
X-WR-CALNAME:UDC Suisse
BEGIN:VEVENT
CREATED:20151110T075543Z
UID:8072
DTEND:20160927T000000
DTSTART:20160927T000000
DTSTAMP:20260420T171955Z
LOCATION:Berne
DESCRIPTION:
SUMMARY:ev. Séance du groupe
ORGANIZER:
URL;VALUE=URI:https://www.udc.ch/actualites/agenda/ev-seance-du-groupe-7/
TRANSP:OPAQUE
END:VEVENT
END:VCALENDAR
