

BEGIN:VCALENDAR
VERSION:2.0
PRODID:-//UDC Suisse //NONSGML Events //EN
CALSCALE:GREGORIAN
X-WR-CALNAME:UDC Suisse
BEGIN:VEVENT
CREATED:20151110T075300Z
UID:8073
DTEND:20160930T000000
DTSTART:20160912T000000
DTSTAMP:20260421T060950Z
LOCATION:Berne
DESCRIPTION:
SUMMARY:Session d&rsquo\;automne
ORGANIZER:
URL;VALUE=URI:https://www.udc.ch/actualites/agenda/session-dautomne-2/
TRANSP:OPAQUE
END:VEVENT
END:VCALENDAR
