

BEGIN:VCALENDAR
VERSION:2.0
PRODID:-//UDC Suisse //NONSGML Events //EN
CALSCALE:GREGORIAN
X-WR-CALNAME:UDC Suisse
BEGIN:VEVENT
CREATED:20151110T081946Z
UID:8074
DTEND:20161028T000000
DTSTART:20161028T000000
DTSTAMP:20260420T171538Z
LOCATION:
DESCRIPTION:
SUMMARY:Comité directeur / Comité central avec secrétaires cantonaux
ORGANIZER:
URL;VALUE=URI:https://www.udc.ch/actualites/agenda/comite-directeur-comite-central-avec-secretaires-cantonaux-10/
TRANSP:OPAQUE
END:VEVENT
END:VCALENDAR
