

BEGIN:VCALENDAR
VERSION:2.0
PRODID:-//UDC Suisse //NONSGML Events //EN
CALSCALE:GREGORIAN
X-WR-CALNAME:UDC Suisse
BEGIN:VEVENT
CREATED:20151110T082229Z
UID:8077
DTEND:20161127T000000
DTSTART:20161127T000000
DTSTAMP:20260421T022928Z
LOCATION:
DESCRIPTION:
SUMMARY:Votations fédérales
ORGANIZER:
URL;VALUE=URI:https://www.udc.ch/actualites/agenda/votations-federales-7/
TRANSP:OPAQUE
END:VEVENT
END:VCALENDAR
