

BEGIN:VCALENDAR
VERSION:2.0
PRODID:-//UDC Suisse //NONSGML Events //EN
CALSCALE:GREGORIAN
X-WR-CALNAME:UDC Suisse
BEGIN:VEVENT
CREATED:20151110T165300Z
UID:8083
DTEND:20151209T000000
DTSTART:20151209T000000
DTSTAMP:20260420T171244Z
LOCATION:Restaurant zum Äusseren Stand
Empire-Saal
Zeughausgasse 17
Berne
DESCRIPTION:Invitation (PDF)
SUMMARY:Élections au conseil fédéral
ORGANIZER:
URL;VALUE=URI:https://www.udc.ch/actualites/agenda/elections-au-conseil-federal/
TRANSP:OPAQUE
END:VEVENT
END:VCALENDAR
