

BEGIN:VCALENDAR
VERSION:2.0
PRODID:-//UDC Suisse //NONSGML Events //EN
CALSCALE:GREGORIAN
X-WR-CALNAME:UDC Suisse
BEGIN:VEVENT
CREATED:20151111T135548Z
UID:8084
DTEND:20160228T000000
DTSTART:20160228T000000
DTSTAMP:20260421T060935Z
LOCATION:
DESCRIPTION:
SUMMARY:Votations populaires du 28 février 2016
ORGANIZER:
URL;VALUE=URI:https://www.udc.ch/actualites/agenda/votations-populaires-du-28-fevrier-2016/
TRANSP:OPAQUE
END:VEVENT
END:VCALENDAR
