

BEGIN:VCALENDAR
VERSION:2.0
PRODID:-//UDC Suisse //NONSGML Events //EN
CALSCALE:GREGORIAN
X-WR-CALNAME:UDC Suisse
BEGIN:VEVENT
CREATED:20160323T101600Z
UID:8085
DTEND:20160605T000000
DTSTART:20160605T000000
DTSTAMP:20260421T023714Z
LOCATION:
DESCRIPTION:
SUMMARY:Votations populaires du 5 juin 2016
ORGANIZER:
URL;VALUE=URI:https://www.udc.ch/actualites/agenda/votations-populaires-du-5-juin-2016/
TRANSP:OPAQUE
END:VEVENT
END:VCALENDAR
