

BEGIN:VCALENDAR
VERSION:2.0
PRODID:-//UDC Suisse //NONSGML Events //EN
CALSCALE:GREGORIAN
X-WR-CALNAME:UDC Suisse
BEGIN:VEVENT
CREATED:20160609T123625Z
UID:8086
DTEND:20160925T000000
DTSTART:20160925T000000
DTSTAMP:20260420T225258Z
LOCATION:
DESCRIPTION:
SUMMARY:Votations populaires du 25 septembre 2016
ORGANIZER:
URL;VALUE=URI:https://www.udc.ch/actualites/agenda/votations-populaires-du-25-septembre-2016/
TRANSP:OPAQUE
END:VEVENT
END:VCALENDAR
