

BEGIN:VCALENDAR
VERSION:2.0
PRODID:-//UDC Suisse //NONSGML Events //EN
CALSCALE:GREGORIAN
X-WR-CALNAME:UDC Suisse
BEGIN:VEVENT
CREATED:20151110T082000Z
UID:8088
DTEND:20161029T000000
DTSTART:20161029T000000
DTSTAMP:20260421T094157Z
LOCATION:
DESCRIPTION:Pour un approvisionnement &eacute;nerg&eacute;tique avantageux, s&ucir
SUMMARY:Assemblée des délégués de Balsthal (SO)
ORGANIZER:
URL;VALUE=URI:https://www.udc.ch/actualites/agenda/assemblee-des-delegues-de-balsthal-so/
TRANSP:OPAQUE
END:VEVENT
END:VCALENDAR
