

BEGIN:VCALENDAR
VERSION:2.0
PRODID:-//UDC Suisse //NONSGML Events //EN
CALSCALE:GREGORIAN
X-WR-CALNAME:UDC Suisse
BEGIN:VEVENT
CREATED:20161129T102400Z
UID:8090
DTEND:20170218T000000
DTSTART:20170218T000000
DTSTAMP:20260420T225218Z
LOCATION:
DESCRIPTION:
SUMMARY:Séance de groupe
ORGANIZER:
URL;VALUE=URI:https://www.udc.ch/actualites/agenda/seance-de-groupe/
TRANSP:OPAQUE
END:VEVENT
END:VCALENDAR
