

BEGIN:VCALENDAR
VERSION:2.0
PRODID:-//UDC Suisse //NONSGML Events //EN
CALSCALE:GREGORIAN
X-WR-CALNAME:UDC Suisse
BEGIN:VEVENT
CREATED:20151110T082500Z
UID:8094
DTEND:20161207T000000
DTSTART:20161207T000000
DTSTAMP:20260421T094155Z
LOCATION:Berne
DESCRIPTION:
SUMMARY:Repas du groupe
ORGANIZER:
URL;VALUE=URI:https://www.udc.ch/actualites/agenda/repas-du-groupe-2/
TRANSP:OPAQUE
END:VEVENT
END:VCALENDAR
