

BEGIN:VCALENDAR
VERSION:2.0
PRODID:-//UDC Suisse //NONSGML Events //EN
CALSCALE:GREGORIAN
X-WR-CALNAME:UDC Suisse
BEGIN:VEVENT
CREATED:20161129T104600Z
UID:8098
DTEND:20170325T000000
DTSTART:20170325T000000
DTSTAMP:20260421T003636Z
LOCATION:
DESCRIPTION:
SUMMARY:Assemblée des délégues
ORGANIZER:
URL;VALUE=URI:https://www.udc.ch/actualites/agenda/assemblee-des-delegues-12/
TRANSP:OPAQUE
END:VEVENT
END:VCALENDAR
