

BEGIN:VCALENDAR
VERSION:2.0
PRODID:-//UDC Suisse //NONSGML Events //EN
CALSCALE:GREGORIAN
X-WR-CALNAME:UDC Suisse
BEGIN:VEVENT
CREATED:20161129T121911Z
UID:8100
DTEND:20170505T000000
DTSTART:20170502T000000
DTSTAMP:20260421T003821Z
LOCATION:Berne
DESCRIPTION:
SUMMARY:ev. session spéciale
ORGANIZER:
URL;VALUE=URI:https://www.udc.ch/actualites/agenda/ev-session-speciale-3/
TRANSP:OPAQUE
END:VEVENT
END:VCALENDAR
