

BEGIN:VCALENDAR
VERSION:2.0
PRODID:-//UDC Suisse //NONSGML Events //EN
CALSCALE:GREGORIAN
X-WR-CALNAME:UDC Suisse
BEGIN:VEVENT
CREATED:20161129T122057Z
UID:8102
DTEND:20170520T000000
DTSTART:20170520T000000
DTSTAMP:20260420T194712Z
LOCATION:
DESCRIPTION:
SUMMARY:Séance de groupe
ORGANIZER:
URL;VALUE=URI:https://www.udc.ch/actualites/agenda/seance-de-groupe-2/
TRANSP:OPAQUE
END:VEVENT
END:VCALENDAR
