

BEGIN:VCALENDAR
VERSION:2.0
PRODID:-//UDC Suisse //NONSGML Events //EN
CALSCALE:GREGORIAN
X-WR-CALNAME:UDC Suisse
BEGIN:VEVENT
CREATED:20161129T122223Z
UID:8103
DTEND:20170616T000000
DTSTART:20170529T000000
DTSTAMP:20260421T060945Z
LOCATION:Berne
DESCRIPTION:
SUMMARY:Session d&rsquo\;été
ORGANIZER:
URL;VALUE=URI:https://www.udc.ch/actualites/agenda/session-dete-3/
TRANSP:OPAQUE
END:VEVENT
END:VCALENDAR
