

BEGIN:VCALENDAR
VERSION:2.0
PRODID:-//UDC Suisse //NONSGML Events //EN
CALSCALE:GREGORIAN
X-WR-CALNAME:UDC Suisse
BEGIN:VEVENT
CREATED:20161129T122255Z
UID:8104
DTEND:20170530T000000
DTSTART:20170530T000000
DTSTAMP:20260420T134627Z
LOCATION:
DESCRIPTION:
SUMMARY:Comité de groupe / Séance de groupe
ORGANIZER:
URL;VALUE=URI:https://www.udc.ch/actualites/agenda/comite-de-groupe-seance-de-groupe-4/
TRANSP:OPAQUE
END:VEVENT
END:VCALENDAR
