

BEGIN:VCALENDAR
VERSION:2.0
PRODID:-//UDC Suisse //NONSGML Events //EN
CALSCALE:GREGORIAN
X-WR-CALNAME:UDC Suisse
BEGIN:VEVENT
CREATED:20161129T122435Z
UID:8106
DTEND:20170613T000000
DTSTART:20170613T000000
DTSTAMP:20260420T205436Z
LOCATION:
DESCRIPTION:
SUMMARY:Excursion du groupe
ORGANIZER:
URL;VALUE=URI:https://www.udc.ch/actualites/agenda/excursion-u-groupe/
TRANSP:OPAQUE
END:VEVENT
END:VCALENDAR
