

BEGIN:VCALENDAR
VERSION:2.0
PRODID:-//UDC Suisse //NONSGML Events //EN
CALSCALE:GREGORIAN
X-WR-CALNAME:UDC Suisse
BEGIN:VEVENT
CREATED:20161129T122608Z
UID:8108
DTEND:20170623T000000
DTSTART:20170623T000000
DTSTAMP:20260420T171757Z
LOCATION:
DESCRIPTION:
SUMMARY:Comité directeur / Comité du parti avec secétaires cantonaux
ORGANIZER:
URL;VALUE=URI:https://www.udc.ch/actualites/agenda/comite-directeur-comite-du-parti-avec-secetaires-cantonaux-3/
TRANSP:OPAQUE
END:VEVENT
END:VCALENDAR
