

BEGIN:VCALENDAR
VERSION:2.0
PRODID:-//UDC Suisse //NONSGML Events //EN
CALSCALE:GREGORIAN
X-WR-CALNAME:UDC Suisse
BEGIN:VEVENT
CREATED:20161129T124005Z
UID:8110
DTEND:20170826T000000
DTSTART:20170826T000000
DTSTAMP:20260420T190750Z
LOCATION:
DESCRIPTION:
SUMMARY:Assemblée des délégues
ORGANIZER:
URL;VALUE=URI:https://www.udc.ch/actualites/agenda/assemblee-des-delegues-13/
TRANSP:OPAQUE
END:VEVENT
END:VCALENDAR
