

BEGIN:VCALENDAR
VERSION:2.0
PRODID:-//UDC Suisse //NONSGML Events //EN
CALSCALE:GREGORIAN
X-WR-CALNAME:UDC Suisse
BEGIN:VEVENT
CREATED:20161129T124116Z
UID:8112
DTEND:20170902T000000
DTSTART:20170902T000000
DTSTAMP:20260420T193634Z
LOCATION:
DESCRIPTION:
SUMMARY:Séance de groupe
ORGANIZER:
URL;VALUE=URI:https://www.udc.ch/actualites/agenda/seance-de-groupe-3/
TRANSP:OPAQUE
END:VEVENT
END:VCALENDAR
