

BEGIN:VCALENDAR
VERSION:2.0
PRODID:-//UDC Suisse //NONSGML Events //EN
CALSCALE:GREGORIAN
X-WR-CALNAME:UDC Suisse
BEGIN:VEVENT
CREATED:20161129T124242Z
UID:8113
DTEND:20170909T000000
DTSTART:20170908T000000
DTSTAMP:20260420T153219Z
LOCATION:
DESCRIPTION:
SUMMARY:Conférence des présidents\, présidents de groupe et secrétaires cantonaux
ORGANIZER:
URL;VALUE=URI:https://www.udc.ch/actualites/agenda/conference-des-presidents-presidents-de-groupe-et-secretaires-cantonaux-2/
TRANSP:OPAQUE
END:VEVENT
END:VCALENDAR
