

BEGIN:VCALENDAR
VERSION:2.0
PRODID:-//UDC Suisse //NONSGML Events //EN
CALSCALE:GREGORIAN
X-WR-CALNAME:UDC Suisse
BEGIN:VEVENT
CREATED:20161129T124333Z
UID:8114
DTEND:20170929T000000
DTSTART:20170911T000000
DTSTAMP:20260420T213521Z
LOCATION:
DESCRIPTION:
SUMMARY:Session d&rsquo\;automne
ORGANIZER:
URL;VALUE=URI:https://www.udc.ch/actualites/agenda/session-dautomne-3/
TRANSP:OPAQUE
END:VEVENT
END:VCALENDAR
