

BEGIN:VCALENDAR
VERSION:2.0
PRODID:-//UDC Suisse //NONSGML Events //EN
CALSCALE:GREGORIAN
X-WR-CALNAME:UDC Suisse
BEGIN:VEVENT
CREATED:20161129T130548Z
UID:8115
DTEND:20170926T000000
DTSTART:20170926T000000
DTSTAMP:20260420T194114Z
LOCATION:Berne
DESCRIPTION:
SUMMARY:ev. Séance du groupe
ORGANIZER:
URL;VALUE=URI:https://www.udc.ch/actualites/agenda/ev-seance-du-groupe-11/
TRANSP:OPAQUE
END:VEVENT
END:VCALENDAR
