

BEGIN:VCALENDAR
VERSION:2.0
PRODID:-//UDC Suisse //NONSGML Events //EN
CALSCALE:GREGORIAN
X-WR-CALNAME:UDC Suisse
BEGIN:VEVENT
CREATED:20161129T130000Z
UID:8117
DTEND:20170912T000000
DTSTART:20170912T000000
DTSTAMP:20260420T193848Z
LOCATION:Berne
DESCRIPTION:
SUMMARY:Comité du groupe / Séance du groupe
ORGANIZER:
URL;VALUE=URI:https://www.udc.ch/actualites/agenda/comite-du-groupe-seance-du-groupe-25/
TRANSP:OPAQUE
END:VEVENT
END:VCALENDAR
