

BEGIN:VCALENDAR
VERSION:2.0
PRODID:-//UDC Suisse //NONSGML Events //EN
CALSCALE:GREGORIAN
X-WR-CALNAME:UDC Suisse
BEGIN:VEVENT
CREATED:20161129T130931Z
UID:8122
DTEND:20171215T000000
DTSTART:20171127T000000
DTSTAMP:20260420T171543Z
LOCATION:
DESCRIPTION:
SUMMARY:Session d&rsquo\;hiver
ORGANIZER:
URL;VALUE=URI:https://www.udc.ch/actualites/agenda/session-dhiver-3/
TRANSP:OPAQUE
END:VEVENT
END:VCALENDAR
