

BEGIN:VCALENDAR
VERSION:2.0
PRODID:-//UDC Suisse //NONSGML Events //EN
CALSCALE:GREGORIAN
X-WR-CALNAME:UDC Suisse
BEGIN:VEVENT
CREATED:20161129T131032Z
UID:8123
DTEND:20171128T000000
DTSTART:20171128T000000
DTSTAMP:20260421T003816Z
LOCATION:
DESCRIPTION:
SUMMARY:Comité du groupe / Séance du groupe
ORGANIZER:
URL;VALUE=URI:https://www.udc.ch/actualites/agenda/comite-du-groupe-seance-du-groupe-27/
TRANSP:OPAQUE
END:VEVENT
END:VCALENDAR
