

BEGIN:VCALENDAR
VERSION:2.0
PRODID:-//UDC Suisse //NONSGML Events //EN
CALSCALE:GREGORIAN
X-WR-CALNAME:UDC Suisse
BEGIN:VEVENT
CREATED:20161129T100800Z
UID:8127
DTEND:20170107T000000
DTSTART:20170106T000000
DTSTAMP:20260420T193826Z
LOCATION:Horn (TG)
DESCRIPTION:
SUMMARY:Séminaire « Bad Horn »
ORGANIZER:
URL;VALUE=URI:https://www.udc.ch/actualites/agenda/seminaire-bad-horn-3/
TRANSP:OPAQUE
END:VEVENT
END:VCALENDAR
