

BEGIN:VCALENDAR
VERSION:2.0
PRODID:-//UDC Suisse //NONSGML Events //EN
CALSCALE:GREGORIAN
X-WR-CALNAME:UDC Suisse
BEGIN:VEVENT
CREATED:20161129T104200Z
UID:8129
DTEND:20170307T000000
DTSTART:20170307T000000
DTSTAMP:20260421T112633Z
LOCATION:Berne
DESCRIPTION:
SUMMARY:Rencontre avec les présidents de groupe cantonaux
ORGANIZER:
URL;VALUE=URI:https://www.udc.ch/actualites/agenda/rencontre-avec-les-presidents-de-groupe-cantonaux-3/
TRANSP:OPAQUE
END:VEVENT
END:VCALENDAR
