

BEGIN:VCALENDAR
VERSION:2.0
PRODID:-//UDC Suisse //NONSGML Events //EN
CALSCALE:GREGORIAN
X-WR-CALNAME:UDC Suisse
BEGIN:VEVENT
CREATED:20161129T102100Z
UID:8133
DTEND:20170114T142500
DTSTART:20170114T000000
DTSTAMP:20260420T214214Z
LOCATION:Le Châble (VS)
DESCRIPTION:&gt;&gt; Invitation assembl&eacute;e des d&eacute;l&eacute;gu&eacute;s
SUMMARY:Assemblée des délégues
ORGANIZER:
URL;VALUE=URI:https://www.udc.ch/actualites/agenda/assemblee-des-delegues-16/
TRANSP:OPAQUE
END:VEVENT
END:VCALENDAR
