

BEGIN:VCALENDAR
VERSION:2.0
PRODID:-//UDC Suisse //NONSGML Events //EN
CALSCALE:GREGORIAN
X-WR-CALNAME:UDC Suisse
BEGIN:VEVENT
CREATED:20170206T151945Z
UID:8135
DTEND:20170212T000000
DTSTART:20170212T000000
DTSTAMP:20260421T004540Z
LOCATION:Restaurant Schlosshof à Dornach\, 
Schlossweg 125\, 4143 Dornach (SO)
DESCRIPTION:
SUMMARY:Atteignabilité le dimanche de votation
ORGANIZER:
URL;VALUE=URI:https://www.udc.ch/actualites/agenda/atteignabilite-le-dimanche-de-votation/
TRANSP:OPAQUE
END:VEVENT
END:VCALENDAR
