

BEGIN:VCALENDAR
VERSION:2.0
PRODID:-//UDC Suisse //NONSGML Events //EN
CALSCALE:GREGORIAN
X-WR-CALNAME:UDC Suisse
BEGIN:VEVENT
CREATED:20161129T130800Z
UID:8138
DTEND:20171126T000000
DTSTART:20171126T000000
DTSTAMP:20260420T172149Z
LOCATION:
DESCRIPTION:
SUMMARY:Votations populaire du 26 novembre
ORGANIZER:
URL;VALUE=URI:https://www.udc.ch/actualites/agenda/votations-populaire-du-26-novembre/
TRANSP:OPAQUE
END:VEVENT
END:VCALENDAR
