

BEGIN:VCALENDAR
VERSION:2.0
PRODID:-//UDC Suisse //NONSGML Events //EN
CALSCALE:GREGORIAN
X-WR-CALNAME:UDC Suisse
BEGIN:VEVENT
CREATED:20161101T153800Z
UID:8141
DTEND:20170212T000000
DTSTART:20170212T000000
DTSTAMP:20260420T191327Z
LOCATION:
DESCRIPTION:
SUMMARY:Votations populaires du 12 février 2017
ORGANIZER:
URL;VALUE=URI:https://www.udc.ch/actualites/agenda/votations-populaires-du-12-fevrier-2017/
TRANSP:OPAQUE
END:VEVENT
END:VCALENDAR
