

BEGIN:VCALENDAR
VERSION:2.0
PRODID:-//UDC Suisse //NONSGML Events //EN
CALSCALE:GREGORIAN
X-WR-CALNAME:UDC Suisse
BEGIN:VEVENT
CREATED:20161129T122100Z
UID:8142
DTEND:20170521T000000
DTSTART:20170521T000000
DTSTAMP:20260420T193716Z
LOCATION:
DESCRIPTION:
SUMMARY:Votations populaire du 21 mai
ORGANIZER:
URL;VALUE=URI:https://www.udc.ch/actualites/agenda/votations-populaire-du-21-mai/
TRANSP:OPAQUE
END:VEVENT
END:VCALENDAR
