

BEGIN:VCALENDAR
VERSION:2.0
PRODID:-//UDC Suisse //NONSGML Events //EN
CALSCALE:GREGORIAN
X-WR-CALNAME:UDC Suisse
BEGIN:VEVENT
CREATED:20161129T122800Z
UID:8143
DTEND:20170819T000000
DTSTART:20170819T000000
DTSTAMP:20260421T003852Z
LOCATION:Bâle
DESCRIPTION:
SUMMARY:Assemblée générale UDC International
ORGANIZER:
URL;VALUE=URI:https://www.udc.ch/actualites/agenda/assemblee-generale-udc-international/
TRANSP:OPAQUE
END:VEVENT
END:VCALENDAR
