

BEGIN:VCALENDAR
VERSION:2.0
PRODID:-//UDC Suisse //NONSGML Events //EN
CALSCALE:GREGORIAN
X-WR-CALNAME:UDC Suisse
BEGIN:VEVENT
CREATED:20161129T123000Z
UID:8144
DTEND:20170820T000000
DTSTART:20170817T000000
DTSTAMP:20260420T134702Z
LOCATION:
DESCRIPTION:
SUMMARY:Congrès des Suisse de l&rsquo\;étranger
ORGANIZER:
URL;VALUE=URI:https://www.udc.ch/actualites/agenda/congres-des-suisse-de-letranger/
TRANSP:OPAQUE
END:VEVENT
END:VCALENDAR
