

BEGIN:VCALENDAR
VERSION:2.0
PRODID:-//UDC Suisse //NONSGML Events //EN
CALSCALE:GREGORIAN
X-WR-CALNAME:UDC Suisse
BEGIN:VEVENT
CREATED:20161129T122700Z
UID:8145
DTEND:20170624T000000
DTSTART:20170624T000000
DTSTAMP:20260421T094149Z
LOCATION:
DESCRIPTION:
SUMMARY:Assemblée des délégues
ORGANIZER:
URL;VALUE=URI:https://www.udc.ch/actualites/agenda/assemblee-des-delegues-17/
TRANSP:OPAQUE
END:VEVENT
END:VCALENDAR
