

BEGIN:VCALENDAR
VERSION:2.0
PRODID:-//UDC Suisse //NONSGML Events //EN
CALSCALE:GREGORIAN
X-WR-CALNAME:UDC Suisse
BEGIN:VEVENT
CREATED:20170918T083243Z
UID:8699
DTEND:20180106T000000
DTSTART:20180105T000000
DTSTAMP:20260420T171513Z
LOCATION:Horn (TG)
DESCRIPTION:
SUMMARY:Séminaire « Bad Horn »
ORGANIZER:
URL;VALUE=URI:https://www.udc.ch/actualites/agenda/seminaire-bad-horn-4/
TRANSP:OPAQUE
END:VEVENT
END:VCALENDAR
