

BEGIN:VCALENDAR
VERSION:2.0
PRODID:-//UDC Suisse //NONSGML Events //EN
CALSCALE:GREGORIAN
X-WR-CALNAME:UDC Suisse
BEGIN:VEVENT
CREATED:20170918T084219Z
UID:8711
DTEND:20180316T000000
DTSTART:20180226T000000
DTSTAMP:20260423T090729Z
LOCATION:Berne
DESCRIPTION:
SUMMARY:Session de printemps
ORGANIZER:
URL;VALUE=URI:https://www.udc.ch/actualites/agenda/session-de-printemps-3/
TRANSP:OPAQUE
END:VEVENT
END:VCALENDAR
