

BEGIN:VCALENDAR
VERSION:2.0
PRODID:-//UDC Suisse //NONSGML Events //EN
CALSCALE:GREGORIAN
X-WR-CALNAME:UDC Suisse
BEGIN:VEVENT
CREATED:20170918T084350Z
UID:8715
DTEND:20180304T000000
DTSTART:20180304T000000
DTSTAMP:20260420T184251Z
LOCATION:
DESCRIPTION:
SUMMARY:Votations fédérales du 4 mars 2018
ORGANIZER:
URL;VALUE=URI:https://www.udc.ch/actualites/agenda/votations-federales-8/
TRANSP:OPAQUE
END:VEVENT
END:VCALENDAR
