

BEGIN:VCALENDAR
VERSION:2.0
PRODID:-//UDC Suisse //NONSGML Events //EN
CALSCALE:GREGORIAN
X-WR-CALNAME:UDC Suisse
BEGIN:VEVENT
CREATED:20170918T084512Z
UID:8719
DTEND:20180306T000000
DTSTART:20180306T000000
DTSTAMP:20260420T172105Z
LOCATION:Berne
DESCRIPTION:
SUMMARY:Rencontre avec les présidents de groupe cantonaux
ORGANIZER:
URL;VALUE=URI:https://www.udc.ch/actualites/agenda/rencontre-avec-les-presidents-de-groupe-cantonaux-4/
TRANSP:OPAQUE
END:VEVENT
END:VCALENDAR
