

BEGIN:VCALENDAR
VERSION:2.0
PRODID:-//UDC Suisse //NONSGML Events //EN
CALSCALE:GREGORIAN
X-WR-CALNAME:UDC Suisse
BEGIN:VEVENT
CREATED:20170918T084620Z
UID:8721
DTEND:20180306T000000
DTSTART:20180306T000000
DTSTAMP:20260420T171508Z
LOCATION:Berne
DESCRIPTION:
SUMMARY:Comité directeur
ORGANIZER:
URL;VALUE=URI:https://www.udc.ch/actualites/agenda/comite-directeur/
TRANSP:OPAQUE
END:VEVENT
END:VCALENDAR
