

BEGIN:VCALENDAR
VERSION:2.0
PRODID:-//UDC Suisse //NONSGML Events //EN
CALSCALE:GREGORIAN
X-WR-CALNAME:UDC Suisse
BEGIN:VEVENT
CREATED:20170918T084706Z
UID:8723
DTEND:20180312T000000
DTSTART:20180312T000000
DTSTAMP:20260420T172005Z
LOCATION:Berne
DESCRIPTION:
SUMMARY:Rencontre avec les juges fédéraux
ORGANIZER:
URL;VALUE=URI:https://www.udc.ch/actualites/agenda/rencontre-avec-les-juges-federaux-3/
TRANSP:OPAQUE
END:VEVENT
END:VCALENDAR
