

BEGIN:VCALENDAR
VERSION:2.0
PRODID:-//UDC Suisse //NONSGML Events //EN
CALSCALE:GREGORIAN
X-WR-CALNAME:UDC Suisse
BEGIN:VEVENT
CREATED:20170918T085204Z
UID:8735
DTEND:20180504T000000
DTSTART:20180502T000000
DTSTAMP:20260420T202451Z
LOCATION:Berne
DESCRIPTION:
SUMMARY:ev. session spéciale
ORGANIZER:
URL;VALUE=URI:https://www.udc.ch/actualites/agenda/ev-session-speciale-4/
TRANSP:OPAQUE
END:VEVENT
END:VCALENDAR
