

BEGIN:VCALENDAR
VERSION:2.0
PRODID:-//UDC Suisse //NONSGML Events //EN
CALSCALE:GREGORIAN
X-WR-CALNAME:UDC Suisse
BEGIN:VEVENT
CREATED:20170918T085325Z
UID:8739
DTEND:20180519T000000
DTSTART:20180519T000000
DTSTAMP:20260420T134727Z
LOCATION:
DESCRIPTION:
SUMMARY:Séance du groupe
ORGANIZER:
URL;VALUE=URI:https://www.udc.ch/actualites/agenda/seance-du-groupe-11/
TRANSP:OPAQUE
END:VEVENT
END:VCALENDAR
