

BEGIN:VCALENDAR
VERSION:2.0
PRODID:-//UDC Suisse //NONSGML Events //EN
CALSCALE:GREGORIAN
X-WR-CALNAME:UDC Suisse
BEGIN:VEVENT
CREATED:20170918T085441Z
UID:8741
DTEND:20180615T000000
DTSTART:20180528T000000
DTSTAMP:20260421T060805Z
LOCATION:Berne
DESCRIPTION:
SUMMARY:Session d’été
ORGANIZER:
URL;VALUE=URI:https://www.udc.ch/actualites/agenda/session-dete-4/
TRANSP:OPAQUE
END:VEVENT
END:VCALENDAR
