

BEGIN:VCALENDAR
VERSION:2.0
PRODID:-//UDC Suisse //NONSGML Events //EN
CALSCALE:GREGORIAN
X-WR-CALNAME:UDC Suisse
BEGIN:VEVENT
CREATED:20170918T085601Z
UID:8745
DTEND:20180605T000000
DTSTART:20180605T000000
DTSTAMP:20260420T153209Z
LOCATION:Berne
DESCRIPTION:
SUMMARY:Comité du groupe / Séance du groupe
ORGANIZER:
URL;VALUE=URI:https://www.udc.ch/actualites/agenda/comite-du-groupe-seance-du-groupe-34/
TRANSP:OPAQUE
END:VEVENT
END:VCALENDAR
